BEGIN:VCALENDAR
VERSION:2.0
PRODID:-//85.13.144.64//NONSGML kigkonsult.se iCalcreator 2.20//
CALSCALE:GREGORIAN
METHOD:PUBLISH
X-WR-TIMEZONE:UTC
BEGIN:VEVENT
UID:event86@Trickschule für Hunde - Ihre Hundeschule in Moers, Kamp-Lintfor
 t, Duisburg und Umgebung
DTSTAMP:20260425T122644Z
CATEGORIES:Seminare mit Gast-Referenten
DESCRIPTION:Die menschliche Körpersprache in der Kommunikation mit Hunden -
  nur noch Plätze ohne Hund\nKategorie: Seminare mit Gast-Referenten\nICS-L
 ink: https://www.trickschule.de/index.php?option=com_jem&view=event&id=86:
 die-menschliche-koerpersprache-in-der-kommunikation-mit-hunden-nur-noch-zw
 ei-plaetze-frei\n
DTSTART;VALUE=DATE:20260808
DTEND;VALUE=DATE:20260810
LOCATION:Trickschule für Hunde\,Rayer Str. 259\,47445 Moers
SUMMARY:Die menschliche Körpersprache in der Kommunikation mit Hunden - nur
  noch Plätze ohne Hund
URL:https://www.trickschule.de/index.php?option=com_jem&view=event&id=86:di
 e-menschliche-koerpersprache-in-der-kommunikation-mit-hunden-nur-noch-zwei
 -plaetze-frei
END:VEVENT
END:VCALENDAR
