BEGIN:VCALENDAR
VERSION:2.0
PRODID:-//85.13.144.64//NONSGML kigkonsult.se iCalcreator 2.20//
CALSCALE:GREGORIAN
METHOD:PUBLISH
X-WR-TIMEZONE:UTC
BEGIN:VEVENT
UID:event81@Trickschule für Hunde - Ihre Hundeschule in Moers, Kamp-Lintfor
 t, Duisburg und Umgebung
DTSTAMP:20260421T104448Z
CATEGORIES:Seminare mit Gast-Referenten
DESCRIPTION:Planet Hund - noch 1 Platz mit Hund\nKategorie: Seminare mit Ga
 st-Referenten\nICS-Link: https://www.trickschule.de/index.php?option=com_j
 em&view=event&id=81:planet-hund\n
DTSTART;VALUE=DATE:20260705
DTEND;VALUE=DATE:20260706
LOCATION:Trickschule für Hunde\,Rayer Str. 259\,47445 Moers
SUMMARY:Planet Hund - noch 1 Platz mit Hund
URL:https://www.trickschule.de/index.php?option=com_jem&view=event&id=81:pl
 anet-hund
END:VEVENT
END:VCALENDAR
